BEGIN:VCALENDAR
PRODID:brasil.gov.agenda
VERSION:1.0
BEGIN:VEVENT
DTSTART:20211104T080000Z
DTEND:20211104T103000Z
DCREATED:20211109T131945Z
UID:Compromisso-98165f55bbec4b4eaba255c4b0f6a8d9
SEQUENCE:0
LAST-MODIFIED:20211109T131945Z
SUMMARY:Despachos Internos
LOCATION:Reitoria
PRIORITY:3
TRANSP:0
END:VEVENT
END:VCALENDAR
