BEGIN:VCALENDAR
PRODID:brasil.gov.agenda
VERSION:1.0
BEGIN:VEVENT
DTSTART:20211104T140000Z
DTEND:20211104T180000Z
DCREATED:20211109T132248Z
UID:Compromisso-3c191edd0f0a4dc4b4c977b8d8c653f4
SEQUENCE:0
LAST-MODIFIED:20211109T132248Z
SUMMARY:Despachos Internos
LOCATION:Reitoria
PRIORITY:3
TRANSP:0
END:VEVENT
END:VCALENDAR
