BEGIN:VCALENDAR
PRODID:brasil.gov.agenda
VERSION:1.0
BEGIN:VEVENT
DTSTART:20211103T000000Z
DTEND:20211103T000000Z
DCREATED:20211109T131335Z
UID:Compromisso-a58850f8cfd34ef4b97b8aa561ce3451
SEQUENCE:0
LAST-MODIFIED:20211109T131335Z
SUMMARY:Férias Regulamentares
LOCATION:Reitoria
PRIORITY:3
TRANSP:0
END:VEVENT
END:VCALENDAR
