BEGIN:VCALENDAR
PRODID:brasil.gov.agenda
VERSION:1.0
BEGIN:VEVENT
DTSTART:20211102T000000Z
DTEND:20211102T000000Z
DCREATED:20211109T131315Z
UID:Compromisso-36a513ae066e4ca1980c2a1ee7b8ea9d
SEQUENCE:0
LAST-MODIFIED:20211109T131315Z
SUMMARY:Férias Regulamentares
LOCATION:Reitoria
PRIORITY:3
TRANSP:0
END:VEVENT
END:VCALENDAR
