BEGIN:VCALENDAR
PRODID:brasil.gov.agenda
VERSION:1.0
BEGIN:VEVENT
DTSTART:20211101T000000Z
DTEND:20211101T000000Z
DCREATED:20211109T131257Z
UID:Compromisso-fe86a295f63b43159b5652935a60cffd
SEQUENCE:0
LAST-MODIFIED:20211109T131257Z
SUMMARY:Férias Regulamentares
LOCATION:Reitoria
PRIORITY:3
TRANSP:0
END:VEVENT
END:VCALENDAR
