BEGIN:VCALENDAR
PRODID:brasil.gov.agenda
VERSION:1.0
BEGIN:VEVENT
DTSTART:20211027T080000Z
DTEND:20211027T120000Z
DCREATED:20211109T130011Z
UID:Compromisso-044a8368d2914061b9ef098e16a6260f
SEQUENCE:0
LAST-MODIFIED:20211109T130011Z
SUMMARY:Despachos Internos
LOCATION:Reitoria
PRIORITY:3
TRANSP:0
END:VEVENT
END:VCALENDAR
