BEGIN:VCALENDAR
PRODID:brasil.gov.agenda
VERSION:1.0
BEGIN:VEVENT
DTSTART:20211026T080000Z
DTEND:20211026T120000Z
DCREATED:20211027T114321Z
UID:Compromisso-a1b6a33336b343948c2c172f767ef928
SEQUENCE:0
LAST-MODIFIED:20211027T114321Z
SUMMARY:Despachos Internos
LOCATION:Reitoria
PRIORITY:3
TRANSP:0
END:VEVENT
END:VCALENDAR
