BEGIN:VCALENDAR
PRODID:brasil.gov.agenda
VERSION:1.0
BEGIN:VEVENT
DTSTART:20211026T140000Z
DTEND:20211026T180000Z
DCREATED:20211027T114635Z
UID:Compromisso-b1c9e2008a734d15b538c921199ff400
SEQUENCE:0
LAST-MODIFIED:20211027T114635Z
SUMMARY:Despachos Internos
LOCATION:Reitoria
PRIORITY:3
TRANSP:0
END:VEVENT
END:VCALENDAR
