BEGIN:VCALENDAR
PRODID:brasil.gov.agenda
VERSION:1.0
BEGIN:VEVENT
DTSTART:20211025T130000Z
DTEND:20211025T200000Z
DCREATED:20211027T113752Z
UID:Compromisso-0078caf18f14465892f04d0f89ad27ce
SEQUENCE:0
LAST-MODIFIED:20211027T114217Z
SUMMARY:Visita à Fazenda do Moura e Comparecimento à Reunião Ordinária da Câmara Municipal de Curvelo
LOCATION:Reitoria
PRIORITY:3
TRANSP:0
END:VEVENT
END:VCALENDAR
