BEGIN:VCALENDAR
PRODID:brasil.gov.agenda
VERSION:1.0
BEGIN:VEVENT
DTSTART:20211025T080000Z
DTEND:20211025T120000Z
DCREATED:20211027T113255Z
UID:Compromisso-00153ada29564fb18cda54bf9f8c2b7c
SEQUENCE:0
LAST-MODIFIED:20211027T113255Z
SUMMARY:Despachos Internos
LOCATION:Reitoria
PRIORITY:3
TRANSP:0
END:VEVENT
END:VCALENDAR
