BEGIN:VCALENDAR
PRODID:brasil.gov.agenda
VERSION:1.0
BEGIN:VEVENT
DTSTART:20211022T110000Z
DTEND:20211022T120000Z
DCREATED:20211022T174758Z
UID:Compromisso-ec8ac21c75634131915cedb01ae80521
SEQUENCE:0
LAST-MODIFIED:20211022T174758Z
SUMMARY:Reunião com Pró-Reitor de Adminstração
DESCRIPTION:Horários das linhas de ônibus - Campus JK
LOCATION:Reitoria
PRIORITY:3
TRANSP:0
END:VEVENT
END:VCALENDAR
