BEGIN:VCALENDAR
PRODID:brasil.gov.agenda
VERSION:1.0
BEGIN:VEVENT
DTSTART:20211022T080000Z
DTEND:20211022T105900Z
DCREATED:20211022T174038Z
UID:Compromisso-7d9e386756704e3eb3dc3abbf542604f
SEQUENCE:0
LAST-MODIFIED:20211022T174038Z
SUMMARY:Despachos Internos
LOCATION:Reitoria
PRIORITY:3
TRANSP:0
END:VEVENT
END:VCALENDAR
