BEGIN:VCALENDAR
PRODID:brasil.gov.agenda
VERSION:1.0
BEGIN:VEVENT
DTSTART:20211020T080000Z
DTEND:20211020T120000Z
DCREATED:20211022T171919Z
UID:Compromisso-7573302b4ecd40669da826f191cfdc63
SEQUENCE:0
LAST-MODIFIED:20211022T171919Z
SUMMARY:Despachos Internos
LOCATION:Reitoria
PRIORITY:3
TRANSP:0
END:VEVENT
END:VCALENDAR
