BEGIN:VCALENDAR
PRODID:brasil.gov.agenda
VERSION:1.0
BEGIN:VEVENT
DTSTART:20211020T140000Z
DTEND:20211020T180000Z
DCREATED:20211022T171947Z
UID:Compromisso-c6199bbdcf9841489b3755524a5c1dd1
SEQUENCE:0
LAST-MODIFIED:20211022T171947Z
SUMMARY:Despachos Internos
LOCATION:Reitoria
PRIORITY:3
TRANSP:0
END:VEVENT
END:VCALENDAR
