BEGIN:VCALENDAR
PRODID:brasil.gov.agenda
VERSION:1.0
BEGIN:VEVENT
DTSTART:20211019T080000Z
DTEND:20211019T120000Z
DCREATED:20211020T111442Z
UID:Compromisso-8146e6d353b146b9afe747eab19f481d
SEQUENCE:0
LAST-MODIFIED:20211020T111442Z
SUMMARY:Despachos Internos
LOCATION:Reitoria
PRIORITY:3
TRANSP:0
END:VEVENT
END:VCALENDAR
