BEGIN:VCALENDAR
PRODID:brasil.gov.agenda
VERSION:1.0
BEGIN:VEVENT
DTSTART:20211019T140000Z
DTEND:20211019T180000Z
DCREATED:20211020T111510Z
UID:Compromisso-57a201b6709e493a92dea53cf434db81
SEQUENCE:0
LAST-MODIFIED:20211020T111510Z
SUMMARY:Despachos Internos
LOCATION:Reitoria
PRIORITY:3
TRANSP:0
END:VEVENT
END:VCALENDAR
