BEGIN:VCALENDAR
PRODID:brasil.gov.agenda
VERSION:1.0
BEGIN:VEVENT
DTSTART:20211018T083000Z
DTEND:20211018T120000Z
DCREATED:20211019T114114Z
UID:Compromisso-3671348f84f9415a9f1820fa60283528
SEQUENCE:0
LAST-MODIFIED:20211019T114114Z
SUMMARY:Reunião CONSU
LOCATION:Reitoria
PRIORITY:3
TRANSP:0
END:VEVENT
END:VCALENDAR
