BEGIN:VCALENDAR
PRODID:brasil.gov.agenda
VERSION:1.0
BEGIN:VEVENT
DTSTART:20211018T140000Z
DTEND:20211018T180000Z
DCREATED:20211019T114207Z
UID:Compromisso-d8b0ef2094b44080afbe8a88bb160b93
SEQUENCE:0
LAST-MODIFIED:20211019T114207Z
SUMMARY:Despachos Internos
LOCATION:Reitoria
PRIORITY:3
TRANSP:0
END:VEVENT
END:VCALENDAR
