BEGIN:VCALENDAR
PRODID:brasil.gov.agenda
VERSION:1.0
BEGIN:VEVENT
DTSTART:20211015T080000Z
DTEND:20211015T120000Z
DCREATED:20211019T113741Z
UID:Compromisso-3f5c4fd0811749dc886e15555a566b8a
SEQUENCE:0
LAST-MODIFIED:20211019T113741Z
SUMMARY:Despachos Internos
LOCATION:Reitoria
PRIORITY:3
TRANSP:0
END:VEVENT
END:VCALENDAR
