BEGIN:VCALENDAR
PRODID:brasil.gov.agenda
VERSION:1.0
BEGIN:VEVENT
DTSTART:20211015T140000Z
DTEND:20211015T180000Z
DCREATED:20211019T113820Z
UID:Compromisso-1d640bedd18244fd867f0a331abd26b8
SEQUENCE:0
LAST-MODIFIED:20211019T113820Z
SUMMARY:Despachos Internos
LOCATION:Reitoria
PRIORITY:3
TRANSP:0
END:VEVENT
END:VCALENDAR
