BEGIN:VCALENDAR
PRODID:brasil.gov.agenda
VERSION:1.0
BEGIN:VEVENT
DTSTART:20211014T090000Z
DTEND:20211014T110000Z
DCREATED:20211018T112757Z
UID:Compromisso-82dc3a502f544f468230fc755a903d4e
SEQUENCE:0
LAST-MODIFIED:20211018T112758Z
SUMMARY:Reunião com IFNMG e Pró-Reitores
DESCRIPTION:Projetos e Brasil Profisisonalizado
LOCATION:On-line
PRIORITY:3
TRANSP:0
END:VEVENT
END:VCALENDAR
