BEGIN:VCALENDAR
PRODID:brasil.gov.agenda
VERSION:1.0
BEGIN:VEVENT
DTSTART:20211014T080000Z
DTEND:20211014T090000Z
DCREATED:20211018T112301Z
UID:Compromisso-17aefcc3f4034f9caa21e1f4a1a2ef4c
SEQUENCE:0
LAST-MODIFIED:20211018T112301Z
SUMMARY:Despachos Internos
LOCATION:Reitoria
PRIORITY:3
TRANSP:0
END:VEVENT
END:VCALENDAR
