BEGIN:VCALENDAR
PRODID:brasil.gov.agenda
VERSION:1.0
BEGIN:VEVENT
DTSTART:20211014T140000Z
DTEND:20211014T180000Z
DCREATED:20211019T113624Z
UID:Compromisso-09e56cdf6c754ac1a44377543757454f
SEQUENCE:0
LAST-MODIFIED:20211019T113624Z
SUMMARY:Despachos Internos
LOCATION:Reitoria
PRIORITY:3
TRANSP:0
END:VEVENT
END:VCALENDAR
