BEGIN:VCALENDAR
PRODID:brasil.gov.agenda
VERSION:1.0
BEGIN:VEVENT
DTSTART:20211013T000000Z
DTEND:20211013T000000Z
DCREATED:20211018T111842Z
UID:Compromisso-cac55993b549449f8967c32b3f7cd46a
SEQUENCE:0
LAST-MODIFIED:20211018T111842Z
SUMMARY:Férias regulamentares
PRIORITY:3
TRANSP:0
END:VEVENT
END:VCALENDAR
