BEGIN:VCALENDAR
PRODID:brasil.gov.agenda
VERSION:1.0
BEGIN:VEVENT
DTSTART:20211012T000000Z
DTEND:20211012T000000Z
DCREATED:20211018T111620Z
UID:Compromisso-e76b343a592742feaeba087fd4cc3288
SEQUENCE:0
LAST-MODIFIED:20211018T111620Z
SUMMARY:Férias regulamentares
PRIORITY:3
TRANSP:0
END:VEVENT
END:VCALENDAR
