BEGIN:VCALENDAR
PRODID:brasil.gov.agenda
VERSION:1.0
BEGIN:VEVENT
DTSTART:20211011T000000Z
DTEND:20211011T000000Z
DCREATED:20211018T111337Z
UID:Compromisso-00a4e8a9c3df4d9da83eb5f0898743b2
SEQUENCE:0
LAST-MODIFIED:20211018T111337Z
SUMMARY:Férias regulamentares
PRIORITY:3
TRANSP:0
END:VEVENT
END:VCALENDAR
