BEGIN:VCALENDAR
PRODID:brasil.gov.agenda
VERSION:1.0
BEGIN:VEVENT
DTSTART:20211008T000000Z
DTEND:20211008T000000Z
DCREATED:20211008T135724Z
UID:Compromisso-ffbb2746c86b41fb8d1ef7fdaeece787
SEQUENCE:0
LAST-MODIFIED:20211008T135724Z
SUMMARY:Férias regulamentares
PRIORITY:3
TRANSP:0
END:VEVENT
END:VCALENDAR
