BEGIN:VCALENDAR
PRODID:brasil.gov.agenda
VERSION:1.0
BEGIN:VEVENT
DTSTART:20211005T000000Z
DTEND:20211005T000000Z
DCREATED:20211005T130634Z
UID:Compromisso-039d974283b145d4af97ec173075d2ae
SEQUENCE:0
LAST-MODIFIED:20211005T130634Z
SUMMARY:Férias regulamentares
PRIORITY:3
TRANSP:0
END:VEVENT
END:VCALENDAR
