BEGIN:VCALENDAR
PRODID:brasil.gov.agenda
VERSION:1.0
BEGIN:VEVENT
DTSTART:20211004T000000Z
DTEND:20211004T000000Z
DCREATED:20211004T123727Z
UID:Compromisso-458b918911584e4bbdeae4e1fe61e88a
SEQUENCE:0
LAST-MODIFIED:20211004T123820Z
SUMMARY:Férias regulamentares
LOCATION:Reitoria
PRIORITY:3
TRANSP:0
END:VEVENT
END:VCALENDAR
