BEGIN:VCALENDAR
PRODID:brasil.gov.agenda
VERSION:1.0
BEGIN:VEVENT
DTSTART:20210930T080000Z
DTEND:20210930T120000Z
DCREATED:20210930T174443Z
UID:Compromisso-d8e51e82ddbb459ea839319a9abcd765
SEQUENCE:0
LAST-MODIFIED:20210930T174443Z
SUMMARY:Despachos Internos
LOCATION:Reitoria
PRIORITY:3
TRANSP:0
END:VEVENT
END:VCALENDAR
