BEGIN:VCALENDAR
PRODID:brasil.gov.agenda
VERSION:1.0
BEGIN:VEVENT
DTSTART:20210930T150000Z
DTEND:20210930T180000Z
DCREATED:20210930T174523Z
UID:Compromisso-e0b91e130bd24acb91d9b0d49c3300c0
SEQUENCE:0
LAST-MODIFIED:20210930T182155Z
SUMMARY:Despachos Internos
LOCATION:Reitoria
PRIORITY:3
TRANSP:0
END:VEVENT
END:VCALENDAR
