BEGIN:VCALENDAR
PRODID:brasil.gov.agenda
VERSION:1.0
BEGIN:VEVENT
DTSTART:20210929T093000Z
DTEND:20210929T120000Z
DCREATED:20211027T115033Z
UID:Compromisso-6992193bf3104979bd58a6a29fdc59cf
SEQUENCE:0
LAST-MODIFIED:20211027T115033Z
SUMMARY:Reunião com pró-reitorias
DESCRIPTION:Formalização de nova estrutura organizacional
LOCATION:Reitoria
PRIORITY:3
TRANSP:0
END:VEVENT
END:VCALENDAR
