BEGIN:VCALENDAR
PRODID:brasil.gov.agenda
VERSION:1.0
BEGIN:VEVENT
DTSTART:20210929T140000Z
DTEND:20210929T180000Z
DCREATED:20211027T115154Z
UID:Compromisso-6df0b18bbc094d278b8b4d2af54adcd0
SEQUENCE:0
LAST-MODIFIED:20211027T115154Z
SUMMARY:Reunião com Pró-reitorias e Diretorias
LOCATION:Reitoria
PRIORITY:3
TRANSP:0
END:VEVENT
END:VCALENDAR
