BEGIN:VCALENDAR
PRODID:brasil.gov.agenda
VERSION:1.0
BEGIN:VEVENT
DTSTART:20210929T080000Z
DTEND:20210929T093000Z
DCREATED:20211027T114937Z
UID:Compromisso-433fe37e5dc1485a9ab591e21bbd8d2a
SEQUENCE:0
LAST-MODIFIED:20211027T114937Z
SUMMARY:Despachos Internos
LOCATION:Reitoria
PRIORITY:3
TRANSP:0
END:VEVENT
END:VCALENDAR
