BEGIN:VCALENDAR
PRODID:brasil.gov.agenda
VERSION:1.0
BEGIN:VEVENT
DTSTART:20210928T080000Z
DTEND:20210928T120000Z
DCREATED:20210928T114255Z
UID:Compromisso-97395c325ce8422eaac1291446ee21ab
SEQUENCE:0
LAST-MODIFIED:20210928T114255Z
SUMMARY:Despachos Internos
LOCATION:Reitoria
PRIORITY:3
TRANSP:0
END:VEVENT
END:VCALENDAR
