BEGIN:VCALENDAR
PRODID:brasil.gov.agenda
VERSION:1.0
BEGIN:VEVENT
DTSTART:20210927T080000Z
DTEND:20210927T100000Z
DCREATED:20210928T114012Z
UID:Compromisso-96874762c48641c184d47c6d9d52ceba
SEQUENCE:0
LAST-MODIFIED:20210928T114012Z
SUMMARY:Reunião com a Secretaria de Processo Administrativo (SecPad)
LOCATION:Reitoria
PRIORITY:3
TRANSP:0
END:VEVENT
END:VCALENDAR
