BEGIN:VCALENDAR
PRODID:brasil.gov.agenda
VERSION:1.0
BEGIN:VEVENT
DTSTART:20210927T110000Z
DTEND:20210927T120000Z
DCREATED:20210928T114137Z
UID:Compromisso-69551ee8946e457dab1ee487fd9f2c0d
SEQUENCE:0
LAST-MODIFIED:20210928T114154Z
SUMMARY:Reunião com a Pró-Reitoria de Planejamento e Orçamento (PROPLAN)
DESCRIPTION:Orçamento suplementar MEC
LOCATION:Reitoria
PRIORITY:3
TRANSP:0
END:VEVENT
END:VCALENDAR
