BEGIN:VCALENDAR
PRODID:brasil.gov.agenda
VERSION:1.0
BEGIN:VEVENT
DTSTART:20210927T140000Z
DTEND:20210927T180000Z
DCREATED:20210928T114211Z
UID:Compromisso-2a6a6dc58d304d47a7498795f680e531
SEQUENCE:0
LAST-MODIFIED:20210928T114211Z
SUMMARY:Despachos Internos
LOCATION:Reitoria
PRIORITY:3
TRANSP:0
END:VEVENT
END:VCALENDAR
