BEGIN:VCALENDAR
PRODID:brasil.gov.agenda
VERSION:1.0
BEGIN:VEVENT
DTSTART:20210924T083000Z
DTEND:20210924T120000Z
DCREATED:20210924T114509Z
UID:Compromisso-03f1cfcb788f4cca92a12c2ce8afefb5
SEQUENCE:0
LAST-MODIFIED:20210924T114509Z
SUMMARY:253ª reunião\, sendo a 146ª sessão em caráter ordinário do CONSU
LOCATION:Reitoria
PRIORITY:3
TRANSP:0
END:VEVENT
END:VCALENDAR
