BEGIN:VCALENDAR
PRODID:brasil.gov.agenda
VERSION:1.0
BEGIN:VEVENT
DTSTART:20210923T140000Z
DTEND:20210923T170000Z
DCREATED:20210923T165904Z
UID:Compromisso-3ee922e050e44461939ea95c090d5d93
SEQUENCE:0
LAST-MODIFIED:20210923T165948Z
SUMMARY:169ª reunião em caráter ordinário do CONSEPE
LOCATION:Compromisso on-line
PRIORITY:3
TRANSP:0
END:VEVENT
END:VCALENDAR
