BEGIN:VCALENDAR
PRODID:brasil.gov.agenda
VERSION:1.0
BEGIN:VEVENT
DTSTART:20210920T080000Z
DTEND:20210920T100000Z
DCREATED:20210920T125357Z
UID:Compromisso-1c255f13b5e9413083af94caab0dc89e
SEQUENCE:0
LAST-MODIFIED:20210920T125357Z
SUMMARY:Reunião do Comitê de Governança\, Integridade\, Riscos e Controles Internos - CGIRC
LOCATION:Reitoria
PRIORITY:3
TRANSP:0
END:VEVENT
END:VCALENDAR
