BEGIN:VCALENDAR
PRODID:brasil.gov.agenda
VERSION:1.0
BEGIN:VEVENT
DTSTART:20210920T150000Z
DTEND:20210920T160000Z
DCREATED:20210920T125558Z
UID:Compromisso-01e999400de745eebaef05b37ef336ee
SEQUENCE:0
LAST-MODIFIED:20210920T125558Z
SUMMARY:Reunião com a Pró-Reitoria de Assuntos Comunitários e Estudantis
DESCRIPTION:Posicionamento vacina covid
LOCATION:Reitoria
PRIORITY:3
TRANSP:0
END:VEVENT
END:VCALENDAR
