BEGIN:VCALENDAR
PRODID:brasil.gov.agenda
VERSION:1.0
BEGIN:VEVENT
DTSTART:20210917T160000Z
DTEND:20210917T170000Z
DCREATED:20210920T130424Z
UID:Compromisso-f57fb754968f4cb38c4cae655f53c6f1
SEQUENCE:0
LAST-MODIFIED:20210920T130424Z
SUMMARY:Reunião com a Pró-Reitoria de Planejamento e Orçamento (PROPLAN)
DESCRIPTION:Unidade orçamentária COVID - Distribuição de itens
LOCATION:Reitoria
PRIORITY:3
TRANSP:0
END:VEVENT
END:VCALENDAR
