BEGIN:VCALENDAR
PRODID:brasil.gov.agenda
VERSION:1.0
BEGIN:VEVENT
DTSTART:20210917T140000Z
DTEND:20210917T160000Z
DCREATED:20210920T130140Z
UID:Compromisso-2527d0b292454a0eafaad58c6fdbf0cc
SEQUENCE:0
LAST-MODIFIED:20210920T130140Z
SUMMARY:Despachos Internos
LOCATION:Reitoria
PRIORITY:3
TRANSP:0
END:VEVENT
END:VCALENDAR
