BEGIN:VCALENDAR
PRODID:brasil.gov.agenda
VERSION:1.0
BEGIN:VEVENT
DTSTART:20210917T080000Z
DTEND:20210917T120000Z
DCREATED:20210920T130051Z
UID:Compromisso-12655e032bed41339d933b41606c1cf4
SEQUENCE:0
LAST-MODIFIED:20210920T130051Z
SUMMARY:Despachos Internos
LOCATION:Reitoria
PRIORITY:3
TRANSP:0
END:VEVENT
END:VCALENDAR
