BEGIN:VCALENDAR
PRODID:brasil.gov.agenda
VERSION:1.0
BEGIN:VEVENT
DTSTART:20210916T080000Z
DTEND:20210915T100000Z
DCREATED:20210920T125720Z
UID:Compromisso-94939388cbb04955b59f502e8c3d3189
SEQUENCE:0
LAST-MODIFIED:20210920T125720Z
SUMMARY:Reunião com a Secretaria de Processo Administrativo (SecPad)
DESCRIPTION:Demandas da secretaria
LOCATION:Reitoria
PRIORITY:3
TRANSP:0
END:VEVENT
END:VCALENDAR
