BEGIN:VCALENDAR
PRODID:brasil.gov.agenda
VERSION:1.0
BEGIN:VEVENT
DTSTART:20210916T103000Z
DTEND:20210916T120000Z
DCREATED:20210920T125928Z
UID:Compromisso-e1ce119218264773aa80d9ca6f34daba
SEQUENCE:0
LAST-MODIFIED:20210920T125928Z
SUMMARY:Reunião com a Pró-Reitoria de Gestão de Pessoas (PROGEP)
DESCRIPTION:Elaboração de portaria
LOCATION:Reitoria
PRIORITY:3
TRANSP:0
END:VEVENT
END:VCALENDAR
