BEGIN:VCALENDAR
PRODID:brasil.gov.agenda
VERSION:1.0
BEGIN:VEVENT
DTSTART:20210916T140000Z
DTEND:20210916T180000Z
DCREATED:20210920T130005Z
UID:Compromisso-f4a77babd3a24c2abe37d6187885a020
SEQUENCE:0
LAST-MODIFIED:20210920T130005Z
SUMMARY:Despachos Internos
LOCATION:Reitoria
PRIORITY:3
TRANSP:0
END:VEVENT
END:VCALENDAR
