BEGIN:VCALENDAR
PRODID:brasil.gov.agenda
VERSION:1.0
BEGIN:VEVENT
DTSTART:20210909T113000Z
DTEND:20210909T120000Z
DCREATED:20210909T165133Z
UID:Compromisso-e7390f8dff924f69bfd0021000e96cfe
SEQUENCE:0
LAST-MODIFIED:20210909T165133Z
SUMMARY:webinário Gestão e Competências: transformando necessidades em desempenho
LOCATION:Compromisso on-line
PRIORITY:3
TRANSP:0
END:VEVENT
END:VCALENDAR
