BEGIN:VCALENDAR
PRODID:brasil.gov.agenda
VERSION:1.0
BEGIN:VEVENT
DTSTART:20210909T140000Z
DTEND:20210909T180000Z
DCREATED:20210909T165200Z
UID:Compromisso-6a1e0a78351b4560918c34e7e9e65440
SEQUENCE:0
LAST-MODIFIED:20210909T165200Z
SUMMARY:Despachos Internos
LOCATION:Reitoria
PRIORITY:3
TRANSP:0
END:VEVENT
END:VCALENDAR
